BEGIN:VCALENDAR
VERSION:2.0
PRODID:-//Tukios.com/
BEGIN:VEVENT
UID:40190f05-cb93-4446-becd-619cb7eec290@www.jefosterfh.com
DTSTAMP:20260420T201816Z
DTSTART:20260423T200000Z
DTEND:20260423T230000Z
SUMMARY:Visitation
DESCRIPTION:
URL:https://www.jefosterfh.com/obituaries/cynthia-parrish
LOCATION: 107 Hill Street  Smithfield OH 43948
GEO:40.2714011;-80.7777334
END:VEVENT
END:VCALENDAR