BEGIN:VCALENDAR
VERSION:2.0
PRODID:-//Tukios.com/
BEGIN:VEVENT
UID:7e260ba8-f3af-4d43-ac6c-ff7826e2bf05@www.jefosterfh.com
DTSTAMP:20260424T165026Z
DTSTART:20260515T140000Z
DTEND:20260515T150000Z
SUMMARY:Visitation with Family
DESCRIPTION:
URL:https://www.jefosterfh.com/obituaries/helen-hall
LOCATION:Open Door Baptist Church 3432 Eldersville Road  Colliers WV 
	26035
GEO:40.3501652;-80.544062
END:VEVENT
END:VCALENDAR