BEGIN:VCALENDAR
VERSION:2.0
PRODID:-//Tukios.com/
BEGIN:VEVENT
UID:48035982-d04f-497f-a369-f9e6a7d6d57c@www.jefosterfh.com
DTSTAMP:20260424T165118Z
DTSTART:20260515T150000Z
DTEND:20260515T160000Z
SUMMARY:Memorial Service
DESCRIPTION:
URL:https://www.jefosterfh.com/obituaries/helen-hall
LOCATION:Open Door Baptist Church 3432 Eldersville Road  Colliers WV 
	26035
GEO:40.3501652;-80.544062
END:VEVENT
END:VCALENDAR